BEGIN:VCALENDAR
VERSION:2.0
PRODID:-//Pink Flamingo - ECPv6.15.14//NONSGML v1.0//EN
CALSCALE:GREGORIAN
METHOD:PUBLISH
X-ORIGINAL-URL:https://pinkflamingobaltimore.com
X-WR-CALDESC:Events for Pink Flamingo
REFRESH-INTERVAL;VALUE=DURATION:PT1H
X-Robots-Tag:noindex
X-PUBLISHED-TTL:PT1H
BEGIN:VTIMEZONE
TZID:America/New_York
BEGIN:DAYLIGHT
TZOFFSETFROM:-0500
TZOFFSETTO:-0400
TZNAME:EDT
DTSTART:20250309T070000
END:DAYLIGHT
BEGIN:STANDARD
TZOFFSETFROM:-0400
TZOFFSETTO:-0500
TZNAME:EST
DTSTART:20251102T060000
END:STANDARD
BEGIN:DAYLIGHT
TZOFFSETFROM:-0500
TZOFFSETTO:-0400
TZNAME:EDT
DTSTART:20260308T070000
END:DAYLIGHT
BEGIN:STANDARD
TZOFFSETFROM:-0400
TZOFFSETTO:-0500
TZNAME:EST
DTSTART:20261101T060000
END:STANDARD
BEGIN:DAYLIGHT
TZOFFSETFROM:-0500
TZOFFSETTO:-0400
TZNAME:EDT
DTSTART:20270314T070000
END:DAYLIGHT
BEGIN:STANDARD
TZOFFSETFROM:-0400
TZOFFSETTO:-0500
TZNAME:EST
DTSTART:20271107T060000
END:STANDARD
END:VTIMEZONE
BEGIN:VEVENT
DTSTART;TZID=America/New_York:20260426T160000
DTEND;TZID=America/New_York:20260426T180000
DTSTAMP:20260420T064242
CREATED:20260418T221845Z
LAST-MODIFIED:20260419T195901Z
UID:216-1777219200-1777226400@pinkflamingobaltimore.com
SUMMARY:Sugarcane Spirits Club: Rums of Barbados
DESCRIPTION:Join us for the 2nd session of the Sugarcane Spirits Club.  Satchel Mordhorst\, one of Pink Flamingo’s most knowledgeable rum aficionados and cocktail creators\, will lead the group through the history\, styles and flavors of the rums of Barbados. \nThe base ticket includes tastes of four different Barbadian rums.  The Bonus Rum ticket gets you a fifth pour of a rare top shelf bottle from our personal collection. \nBuy Tickets on EventbriteBuy Tickets
URL:https://pinkflamingobaltimore.com/house-event/sugarcane-spirits-club/
LOCATION:Pink Flamingo
ATTACH;FMTTYPE=image/webp:https://pinkflamingobaltimore.com/wp-content/uploads/2026/04/rumclub.webp
END:VEVENT
BEGIN:VEVENT
DTSTART;TZID=America/New_York:20260428T190000
DTEND;TZID=America/New_York:20260428T220000
DTSTAMP:20260420T064242
CREATED:20260418T223635Z
LAST-MODIFIED:20260419T011640Z
UID:219-1777402800-1777413600@pinkflamingobaltimore.com
SUMMARY:Beyoncé Listening Party
DESCRIPTION:Come celebrate Beyoncé with music\, themed cocktails\, great food\, fun prizes\, and more! \n\n\n\n\nThe B-More Beyhive is hosting a listening party at Pink Flamingo! We will be listening to Renaissance and Cowboy Carter\, in full and in order as intended\, in preparation for Act III\, which is widely rumored to drop on Friday\, May 29th. Expect a communal experience where fellow fans can come together to revisit the journey before whatever she’s about to put out next. \nThere will be great food and themed cocktails by Pink Flamingo\, games\, prizes\, and best of all\, great music. \n\nTickets available soon!
URL:https://pinkflamingobaltimore.com/house-event/beyonce-listening-party/
ATTACH;FMTTYPE=image/webp:https://pinkflamingobaltimore.com/wp-content/uploads/2026/04/beyhive.webp
END:VEVENT
END:VCALENDAR